BEGIN:VCALENDAR
VERSION:2.0
PRODID:-//Tegernseer Hof - ECPv6.15.20//NONSGML v1.0//EN
CALSCALE:GREGORIAN
METHOD:PUBLISH
X-ORIGINAL-URL:https://www.dertegernseerhof.com
X-WR-CALDESC:Veranstaltungen für Tegernseer Hof
REFRESH-INTERVAL;VALUE=DURATION:PT1H
X-Robots-Tag:noindex
X-PUBLISHED-TTL:PT1H
BEGIN:VTIMEZONE
TZID:Europe/Berlin
BEGIN:DAYLIGHT
TZOFFSETFROM:+0100
TZOFFSETTO:+0200
TZNAME:CEST
DTSTART:20240331T010000
END:DAYLIGHT
BEGIN:STANDARD
TZOFFSETFROM:+0200
TZOFFSETTO:+0100
TZNAME:CET
DTSTART:20241027T010000
END:STANDARD
BEGIN:DAYLIGHT
TZOFFSETFROM:+0100
TZOFFSETTO:+0200
TZNAME:CEST
DTSTART:20250330T010000
END:DAYLIGHT
BEGIN:STANDARD
TZOFFSETFROM:+0200
TZOFFSETTO:+0100
TZNAME:CET
DTSTART:20251026T010000
END:STANDARD
BEGIN:DAYLIGHT
TZOFFSETFROM:+0100
TZOFFSETTO:+0200
TZNAME:CEST
DTSTART:20260329T010000
END:DAYLIGHT
BEGIN:STANDARD
TZOFFSETFROM:+0200
TZOFFSETTO:+0100
TZNAME:CET
DTSTART:20261025T010000
END:STANDARD
END:VTIMEZONE
BEGIN:VEVENT
DTSTART;TZID=Europe/Berlin:20250214T190000
DTEND;TZID=Europe/Berlin:20250214T190000
DTSTAMP:20260421T072434
CREATED:20250123T085355Z
LAST-MODIFIED:20250123T091856Z
UID:5242-1739559600-1739559600@www.dertegernseerhof.com
SUMMARY:Faschingsparty im Tegernseer Hof
DESCRIPTION:Freitag den 14.02.2024\nAb 19 Uhr\nBereit für eine unvergessliche Faschingsnacht? Der Tegernseer Hof lädt Euch am 14. Februar 2025 zur Faschingsparty „WUIDA HOF“ ein – ein Event nur für Gäste ab 18 Jahren! Tanzt die Nacht durch mit der mitreißenden Musik des Moosbach-Express und erlebt Fasching\, wie er im Tegernseer Tal gefeiert wird. \nEintrittskarten sind im Vorverkauf direkt im Tegernseer Hof sowie an der Abendkasse erhältlich – nur 8 Euro. Seid dabei\, wenn „Die Seegeister“ im Tegernseer Hof Fasching feiern! \nWir freuen uns auf eine wilde Nacht mit Euch! \nReservieren\n  \nFlyer ansehen\n 
URL:https://www.dertegernseerhof.com/event/faschingsparty-im-tegernseer-hof/
ATTACH;FMTTYPE=image/jpeg:https://www.dertegernseerhof.com/wp-content/uploads/2025/01/Wuida-Hof.jpg
END:VEVENT
END:VCALENDAR