BEGIN:VCALENDAR
VERSION:2.0
PRODID:-//Tegernseer Hof - ECPv6.15.20//NONSGML v1.0//EN
CALSCALE:GREGORIAN
METHOD:PUBLISH
X-WR-CALNAME:Tegernseer Hof
X-ORIGINAL-URL:https://www.dertegernseerhof.com
X-WR-CALDESC:Veranstaltungen für Tegernseer Hof
REFRESH-INTERVAL;VALUE=DURATION:PT1H
X-Robots-Tag:noindex
X-PUBLISHED-TTL:PT1H
BEGIN:VTIMEZONE
TZID:Europe/Berlin
BEGIN:DAYLIGHT
TZOFFSETFROM:+0100
TZOFFSETTO:+0200
TZNAME:CEST
DTSTART:20240331T010000
END:DAYLIGHT
BEGIN:STANDARD
TZOFFSETFROM:+0200
TZOFFSETTO:+0100
TZNAME:CET
DTSTART:20241027T010000
END:STANDARD
BEGIN:DAYLIGHT
TZOFFSETFROM:+0100
TZOFFSETTO:+0200
TZNAME:CEST
DTSTART:20250330T010000
END:DAYLIGHT
BEGIN:STANDARD
TZOFFSETFROM:+0200
TZOFFSETTO:+0100
TZNAME:CET
DTSTART:20251026T010000
END:STANDARD
BEGIN:DAYLIGHT
TZOFFSETFROM:+0100
TZOFFSETTO:+0200
TZNAME:CEST
DTSTART:20260329T010000
END:DAYLIGHT
BEGIN:STANDARD
TZOFFSETFROM:+0200
TZOFFSETTO:+0100
TZNAME:CET
DTSTART:20261025T010000
END:STANDARD
END:VTIMEZONE
BEGIN:VEVENT
DTSTART;VALUE=DATE:20250601
DTEND;VALUE=DATE:20250907
DTSTAMP:20260421T011239
CREATED:20250508T150914Z
LAST-MODIFIED:20250915T091212Z
UID:5391-1748736000-1757203199@www.dertegernseerhof.com
SUMMARY:Grillabende – jeden Freitag und Samstag bei schönem Wetter
DESCRIPTION:Sommerliche Abende\, feine Grillspezialitäten und gemütliches Beisammensein: Ab Juni laden wir jeden Freitag und Samstag bei schönem Wetter zum Grillabend im Biergarten ein. Ideal für Genießer\, Familien und Freunde!
URL:https://www.dertegernseerhof.com/event/grillabende-im-juni-jeden-freitag-und-samstag/
LOCATION:Tegernseer Hof
ATTACH;FMTTYPE=image/jpeg:https://www.dertegernseerhof.com/wp-content/uploads/2025/05/13.jpg
ORGANIZER;CN="Tegernseer Hof":MAILTO:info@dertegernseerhof.de
END:VEVENT
END:VCALENDAR