BEGIN:VCALENDAR
VERSION:2.0
PRODID:-//Tegernseer Hof - ECPv6.15.20//NONSGML v1.0//EN
CALSCALE:GREGORIAN
METHOD:PUBLISH
X-WR-CALNAME:Tegernseer Hof
X-ORIGINAL-URL:https://www.dertegernseerhof.com
X-WR-CALDESC:Veranstaltungen für Tegernseer Hof
REFRESH-INTERVAL;VALUE=DURATION:PT1H
X-Robots-Tag:noindex
X-PUBLISHED-TTL:PT1H
BEGIN:VTIMEZONE
TZID:Europe/Berlin
BEGIN:DAYLIGHT
TZOFFSETFROM:+0100
TZOFFSETTO:+0200
TZNAME:CEST
DTSTART:20240331T010000
END:DAYLIGHT
BEGIN:STANDARD
TZOFFSETFROM:+0200
TZOFFSETTO:+0100
TZNAME:CET
DTSTART:20241027T010000
END:STANDARD
BEGIN:DAYLIGHT
TZOFFSETFROM:+0100
TZOFFSETTO:+0200
TZNAME:CEST
DTSTART:20250330T010000
END:DAYLIGHT
BEGIN:STANDARD
TZOFFSETFROM:+0200
TZOFFSETTO:+0100
TZNAME:CET
DTSTART:20251026T010000
END:STANDARD
BEGIN:DAYLIGHT
TZOFFSETFROM:+0100
TZOFFSETTO:+0200
TZNAME:CEST
DTSTART:20260329T010000
END:DAYLIGHT
BEGIN:STANDARD
TZOFFSETFROM:+0200
TZOFFSETTO:+0100
TZNAME:CET
DTSTART:20261025T010000
END:STANDARD
END:VTIMEZONE
BEGIN:VEVENT
DTSTART;TZID=Europe/Berlin:20250911T183000
DTEND;TZID=Europe/Berlin:20250911T183000
DTSTAMP:20260424T114935
CREATED:20250721T150156Z
LAST-MODIFIED:20250819T084024Z
UID:5458-1757615400-1757615400@www.dertegernseerhof.com
SUMMARY:SEE.GENUSS - REGIONALE KÜCHE UND EDLE WEINE
DESCRIPTION:Ein Abend voller Genuss am Tegernsee \nDonnerstag\, 11. September 2025 \nWir laden Sie herzlich ein zu einem einzigartigen Gourmet-Erlebnis im Tegernseer Hof – ein Abend\, der alle Sinne anspricht. \nFreuen Sie sich auf kulinarische Höhepunkte von Gastkoch Toni Fröschl\, der für diesen besonderen Anlass ein exquisites Menü kreiert. Begleitet wird der Abend von Sommelier Gerhard Retter\, der mit ausgewählten Weinen meisterhaft durch die Welt des Geschmacks führt. \nErleben Sie feinste Küche\, edle Tropfen und eine Atmosphäre\, die zum Genießen einlädt. \nAperitif ab 18:30 UhrTischzeit um 19:00 Uhr \nPreis pro Person: 169 € \nPlätze sind limitiert – wir empfehlen frühzeitige Reservierung.Lassen Sie sich diesen besonderen Abend nicht entgehen! \nDie Tickets sind ausschließlich gegen Vorkasse erhältlich und können per Telefon oder E-Mail bestellt werden. \nUnsere Stornobedingungen lauten wie folgt:\n• Bis 21 Tage vor der Veranstaltung: volle Rückerstattung oder Ausstellung eines Gutscheins\n• Bis 10 Tage vor der Veranstaltung: 50 % Rückerstattung oder voller Gutschein\n• Weniger als 10 Tage vor der Veranstaltung: keine Rückerstattung möglich\, jedoch kann das Ticket auf eine andere Person übertragen werden \nKontakt\nFlyer ansehen
URL:https://www.dertegernseerhof.com/event/see-genuss-regionale-kueche-und-edle-weine/
ATTACH;FMTTYPE=image/jpeg:https://www.dertegernseerhof.com/wp-content/uploads/2025/07/Seegenuss-Gourmeterlebnis.jpg
END:VEVENT
END:VCALENDAR