BEGIN:VCALENDAR
VERSION:2.0
PRODID:-//Tegernseer Hof - ECPv6.15.20//NONSGML v1.0//EN
CALSCALE:GREGORIAN
METHOD:PUBLISH
X-WR-CALNAME:Tegernseer Hof
X-ORIGINAL-URL:https://www.dertegernseerhof.com
X-WR-CALDESC:Veranstaltungen für Tegernseer Hof
REFRESH-INTERVAL;VALUE=DURATION:PT1H
X-Robots-Tag:noindex
X-PUBLISHED-TTL:PT1H
BEGIN:VTIMEZONE
TZID:Europe/Berlin
BEGIN:DAYLIGHT
TZOFFSETFROM:+0100
TZOFFSETTO:+0200
TZNAME:CEST
DTSTART:20230326T010000
END:DAYLIGHT
BEGIN:STANDARD
TZOFFSETFROM:+0200
TZOFFSETTO:+0100
TZNAME:CET
DTSTART:20231029T010000
END:STANDARD
BEGIN:DAYLIGHT
TZOFFSETFROM:+0100
TZOFFSETTO:+0200
TZNAME:CEST
DTSTART:20240331T010000
END:DAYLIGHT
BEGIN:STANDARD
TZOFFSETFROM:+0200
TZOFFSETTO:+0100
TZNAME:CET
DTSTART:20241027T010000
END:STANDARD
BEGIN:DAYLIGHT
TZOFFSETFROM:+0100
TZOFFSETTO:+0200
TZNAME:CEST
DTSTART:20250330T010000
END:DAYLIGHT
BEGIN:STANDARD
TZOFFSETFROM:+0200
TZOFFSETTO:+0100
TZNAME:CET
DTSTART:20251026T010000
END:STANDARD
END:VTIMEZONE
BEGIN:VEVENT
DTSTART;VALUE=DATE:20240811
DTEND;VALUE=DATE:20240812
DTSTAMP:20260423T145053
CREATED:20240429T140300Z
LAST-MODIFIED:20240711T084447Z
UID:5007-1723334400-1723420799@www.dertegernseerhof.com
SUMMARY:Jazzbiergarten im Tegernseer Hof
DESCRIPTION:Am 11. August verwandelt sich unser Biergarten von 15 bis 19 Uhr in eine Bühne für die „Lakeside Jazz Cats“. Kommen Sie vorbei und lassen Sie sich von mitreißender Jazzmusik unter freiem Himmel verzaubern\, während Sie unser Ambiente und erfrischende Getränke und regionale Schmankerl genießen. Ein perfekter Nachmittag\, um die Seele baumeln zu lassen! \nReservieren
URL:https://www.dertegernseerhof.com/event/jazzbiergarten-im-tegernseer-hof-3/
ATTACH;FMTTYPE=image/jpeg:https://www.dertegernseerhof.com/wp-content/uploads/2024/04/Design-ohne-Titel-36.jpg
END:VEVENT
BEGIN:VEVENT
DTSTART;VALUE=DATE:20240815
DTEND;VALUE=DATE:20240816
DTSTAMP:20260423T145053
CREATED:20240429T141641Z
LAST-MODIFIED:20240429T141641Z
UID:5010-1723680000-1723766399@www.dertegernseerhof.com
SUMMARY:Livemusik im Biergarten oder der Stuben
DESCRIPTION:Genießen Sie das Flair unseres traditionellen Gasthauses oder Biergartens an diesem Feiertag ab 12 Uhr mit Live-Musik von lokalen und regionalen Künstlern. Ob draußen oder drinnen in uriger Atmosphäre – bei uns finden Sie die perfekte Kulisse für entspannte Stunden mit Freunden und Familie. Wir freuen uns auf Ihren Besuch! \nReservieren
URL:https://www.dertegernseerhof.com/event/livemusik-im-biergarten-oder-der-stuben-2/
ATTACH;FMTTYPE=image/jpeg:https://www.dertegernseerhof.com/wp-content/uploads/2024/04/Design-ohne-Titel-37.jpg
END:VEVENT
END:VCALENDAR