BEGIN:VCALENDAR
VERSION:2.0
PRODID:-//Tegernseer Hof - ECPv6.15.20//NONSGML v1.0//EN
CALSCALE:GREGORIAN
METHOD:PUBLISH
X-ORIGINAL-URL:https://www.dertegernseerhof.com
X-WR-CALDESC:Veranstaltungen für Tegernseer Hof
REFRESH-INTERVAL;VALUE=DURATION:PT1H
X-Robots-Tag:noindex
X-PUBLISHED-TTL:PT1H
BEGIN:VTIMEZONE
TZID:Europe/Berlin
BEGIN:DAYLIGHT
TZOFFSETFROM:+0100
TZOFFSETTO:+0200
TZNAME:CEST
DTSTART:20230326T010000
END:DAYLIGHT
BEGIN:STANDARD
TZOFFSETFROM:+0200
TZOFFSETTO:+0100
TZNAME:CET
DTSTART:20231029T010000
END:STANDARD
BEGIN:DAYLIGHT
TZOFFSETFROM:+0100
TZOFFSETTO:+0200
TZNAME:CEST
DTSTART:20240331T010000
END:DAYLIGHT
BEGIN:STANDARD
TZOFFSETFROM:+0200
TZOFFSETTO:+0100
TZNAME:CET
DTSTART:20241027T010000
END:STANDARD
BEGIN:DAYLIGHT
TZOFFSETFROM:+0100
TZOFFSETTO:+0200
TZNAME:CEST
DTSTART:20250330T010000
END:DAYLIGHT
BEGIN:STANDARD
TZOFFSETFROM:+0200
TZOFFSETTO:+0100
TZNAME:CET
DTSTART:20251026T010000
END:STANDARD
END:VTIMEZONE
BEGIN:VEVENT
DTSTART;VALUE=DATE:20241003
DTEND;VALUE=DATE:20241004
DTSTAMP:20260423T120051
CREATED:20241001T142837Z
LAST-MODIFIED:20241001T142837Z
UID:5107-1727913600-1727999999@www.dertegernseerhof.com
SUMMARY:Tag der Deutschen Einheit
DESCRIPTION:Genießen Sie am 03.10.2024 durchgehend von 12:00 bis 22:00 Uhr feinste regionale und saisonale Spezialitäten in unserem gemütlichen Restaurant. \nReservieren
URL:https://www.dertegernseerhof.com/event/tag-der-deutschen-einheit/
ATTACH;FMTTYPE=image/jpeg:https://www.dertegernseerhof.com/wp-content/uploads/2024/09/1.jpg
END:VEVENT
END:VCALENDAR