BEGIN:VCALENDAR
VERSION:2.0
PRODID:-//Tegernseer Hof - ECPv6.15.20//NONSGML v1.0//EN
CALSCALE:GREGORIAN
METHOD:PUBLISH
X-ORIGINAL-URL:https://www.dertegernseerhof.com
X-WR-CALDESC:Veranstaltungen für Tegernseer Hof
REFRESH-INTERVAL;VALUE=DURATION:PT1H
X-Robots-Tag:noindex
X-PUBLISHED-TTL:PT1H
BEGIN:VTIMEZONE
TZID:Europe/Berlin
BEGIN:DAYLIGHT
TZOFFSETFROM:+0100
TZOFFSETTO:+0200
TZNAME:CEST
DTSTART:20240331T010000
END:DAYLIGHT
BEGIN:STANDARD
TZOFFSETFROM:+0200
TZOFFSETTO:+0100
TZNAME:CET
DTSTART:20241027T010000
END:STANDARD
BEGIN:DAYLIGHT
TZOFFSETFROM:+0100
TZOFFSETTO:+0200
TZNAME:CEST
DTSTART:20250330T010000
END:DAYLIGHT
BEGIN:STANDARD
TZOFFSETFROM:+0200
TZOFFSETTO:+0100
TZNAME:CET
DTSTART:20251026T010000
END:STANDARD
BEGIN:DAYLIGHT
TZOFFSETFROM:+0100
TZOFFSETTO:+0200
TZNAME:CEST
DTSTART:20260329T010000
END:DAYLIGHT
BEGIN:STANDARD
TZOFFSETFROM:+0200
TZOFFSETTO:+0100
TZNAME:CET
DTSTART:20261025T010000
END:STANDARD
END:VTIMEZONE
BEGIN:VEVENT
DTSTART;TZID=Europe/Berlin:20251205T160000
DTEND;TZID=Europe/Berlin:20251205T210000
DTSTAMP:20260420T134112
CREATED:20241011T084201Z
LAST-MODIFIED:20250923T105727Z
UID:5140-1764950400-1764968400@www.dertegernseerhof.com
SUMMARY:Adventsglühen mit Nikolaus
DESCRIPTION:Freuen Sie sich auf das Adventsglühen im Hotel Tegernseer Hof! Genießen Sie Glühwein\, weihnachtliche Leckereien und festliche Stimmung unter freiem Himmel. Der Nikolaus kommt um 17 Uhr. Lassen Sie sich von der vorweihnachtlichen Atmosphäre verzaubern und starten Sie mit uns in die Adventszeit!
URL:https://www.dertegernseerhof.com/event/adventsgluehen-eroeffnung-unseres-kleinen-adventsmarkt-im-biergarten/
ATTACH;FMTTYPE=image/jpeg:https://www.dertegernseerhof.com/wp-content/uploads/2024/10/Design-ohne-Titel-22.jpg
END:VEVENT
BEGIN:VEVENT
DTSTART;VALUE=DATE:20251231
DTEND;VALUE=DATE:20260101
DTSTAMP:20260420T134112
CREATED:20241209T152406Z
LAST-MODIFIED:20251120T171904Z
UID:5213-1767139200-1767225599@www.dertegernseerhof.com
SUMMARY:Silvestermenü
DESCRIPTION:Feiern Sie den Jahreswechsel in gemütlichem Ambiente! Der Tegernseer Hof lädt Sie ein\, das Jahr mit einem exklusiven Silvestermenü zu verabschieden. Freuen Sie sich auf kulinarische Highlights\, ausgewählte Weine und eine festliche Atmosphäre. Lassen Sie sich von unserem Team verwöhnen und genießen Sie einen unvergesslichen Abend\, der das Beste aus Genuss und Gemütlichkeit vereint. Stoßen Sie mit uns auf das neue Jahr an und erleben Sie einen Silvesterabend voller Genuss und Geselligkeit. Restaurant von 19:00 bis 01:00 Uhr geöffnet.\nReservieren \nSilvestermenü
URL:https://www.dertegernseerhof.com/event/silvestermenue/
ATTACH;FMTTYPE=image/jpeg:https://www.dertegernseerhof.com/wp-content/uploads/2024/12/Silvestermenue.jpg
END:VEVENT
END:VCALENDAR